BEGIN:VCALENDAR
VERSION:2.0
PRODID:-//週末創業工作室 - ECPv5.9.0//NONSGML v1.0//EN
CALSCALE:GREGORIAN
METHOD:PUBLISH
X-WR-CALNAME:週末創業工作室
X-ORIGINAL-URL:https://daretodreamhk.com
X-WR-CALDESC:Events for 週末創業工作室
BEGIN:VTIMEZONE
TZID:Asia/Hong_Kong
BEGIN:STANDARD
TZOFFSETFROM:+0800
TZOFFSETTO:+0800
TZNAME:HKT
DTSTART:20210101T000000
END:STANDARD
END:VTIMEZONE
BEGIN:VEVENT
DTSTART;VALUE=DATE:20211015
DTEND;VALUE=DATE:20211016
DTSTAMP:20260421T235914
CREATED:20210915T062600Z
LAST-MODIFIED:20210924T075312Z
UID:1642-1634256000-1634342399@daretodreamhk.com
SUMMARY:韓國CLAB 烘焙蠟燭一日證書課程
DESCRIPTION:韓國CLAB 烘焙蠟燭一日證書課程\n注重麵包及蛋糕的質感和製作方法 完全沒有製造蠟燭經驗的新手也可以輕鬆駕馭！\n而且僅需一天時間就可以把技巧學上手 完成6個作品 即可向協會申請證書\n我們 @waxidea.hk 會提供詳盡講義 及提供購買材料的資訊\n收到具認受性的證書後 便可開班授徒或販賣作品�\n \n \nCLAB 課程涵蓋內容\n1. 如何使用不同蠟材的特性做出烘焙蠟燭本體\n2. 蠟燭上色及調色技巧\n3. 仿真水果蠟燭製作 半切士多啤梨 甜橘子 葡萄等\n4. 鮮奶油蠟製作手法 擠花技巧及糖粉裝飾\n. \n@waxidea.hk 的CLAB 課程作品包括：\n1. 瑪芬蛋糕\n2. 奶油瑪芬蛋糕\n3. 三層海綿蛋糕\n4. 鮮奶油水果塔\n5. 切片吐司\n6. 鮮忌廉泡芙（加送項目）\n\n課堂上會製作6個作品帶走�� \n  \n導師介紹︰https://www.instagram.com/waxidea.hk/ \n  \n優點︰小班教學 一人已可成班  \n課程完成時間︰4.5小時 \n地點︰觀塘 \n最新課程時間表︰[facebook live chat button] \n價錢︰$2\,500  (CLAB Baking Candle 課程定價受韓國CLAB協會規限並已包括經此平台的申請費，如需向協會申請證書費用為HK$500 必須擁有此證書才可以販售或將來開設課程為你的學生申請證書)
URL:https://daretodreamhk.com/event/%e9%9f%93%e5%9c%8bclab-%e7%83%98%e7%84%99%e8%a0%9f%e7%87%ad%e4%b8%80%e6%97%a5%e8%ad%89%e6%9b%b8%e8%aa%b2%e7%a8%8b/
LOCATION:WaxIdea | 花果。蠟舍 ｜香薰蠟燭製作\, 觀塘\, 九龍
CATEGORIES:九龍,蠟燭,觀塘,證書課程,韓國CLAB
ATTACH;FMTTYPE=image/jpeg:https://daretodreamhk.com/wp-content/uploads/2021/09/Waxideahk_韓國CLAB-烘焙蠟燭一日證書課程_02.jpg
END:VEVENT
END:VCALENDAR